BEGIN:VCALENDAR
VERSION:2.0
PRODID:-//Las Sendas Golf Club - ECPv6.15.18//NONSGML v1.0//EN
CALSCALE:GREGORIAN
METHOD:PUBLISH
X-WR-CALNAME:Las Sendas Golf Club
X-ORIGINAL-URL:https://www.lassendas.com
X-WR-CALDESC:Events for Las Sendas Golf Club
REFRESH-INTERVAL;VALUE=DURATION:PT1H
X-Robots-Tag:noindex
X-PUBLISHED-TTL:PT1H
BEGIN:VTIMEZONE
TZID:America/Phoenix
BEGIN:STANDARD
TZOFFSETFROM:-0700
TZOFFSETTO:-0700
TZNAME:MST
DTSTART:20250101T000000
END:STANDARD
END:VTIMEZONE
BEGIN:VEVENT
DTSTART;TZID=America/Phoenix:20260418T080000
DTEND;TZID=America/Phoenix:20260418T140000
DTSTAMP:20260420T012355
CREATED:20241024T182200Z
LAST-MODIFIED:20250416T190157Z
UID:10002403-1776499200-1776520800@www.lassendas.com
SUMMARY:Saturday Brunch
DESCRIPTION:  \nJoin Us for Saturday Brunch at Las Sendas Golf Club! \nElevate your weekend with our exclusive Saturday Brunch from 8 AM to 2 PM. Indulge in a variety of sumptuous dishes served with a side of breathtaking views over the course. Perfect for relaxing with family or catching up with friends\, our brunch offers something for everyone. \nDon’t miss out on this delightful experience—spaces fill up fast! Reserve your table today on and ensure your spot at the best brunch spot in town. \nBook your reservation online from OpenTable or give us a call at (480) 396-4000.
URL:https://www.lassendas.com/event/saturday-brunch/2026-04-18/
LOCATION:The Patio & Grille at Las Sendas\, 755 E Eagle Crest Drive\, Mesa\, AZ\, 85207\, United States
CATEGORIES:Calendar
END:VEVENT
BEGIN:VEVENT
DTSTART;TZID=America/Phoenix:20260418T100000
DTEND;TZID=America/Phoenix:20260418T150000
DTSTAMP:20260420T012355
CREATED:20250807T203159Z
LAST-MODIFIED:20250905T011426Z
UID:10002824-1776506400-1776524400@www.lassendas.com
SUMMARY:Pro Shop Game
DESCRIPTION:Each week we have a Saturday Pro Shop Game\, an invite will go out with format\, times\, etc. \nJust simply click “Playing” or “Not Playing” at the bottom of the email. \nIf for any reason you do not receive an invite and would like to play\, email mfield@lassendas.com and I’ll add you to the list.
URL:https://www.lassendas.com/event/pro-shop-game-9/
LOCATION:Las Sendas Golf Club\, 7555 E Eagle Crest Dr\, Mesa\, AZ\, 85207
CATEGORIES:Members Only
ORGANIZER;CN="Las Sendas Golf Club":MAILTO:info@lassendas.com
END:VEVENT
BEGIN:VEVENT
DTSTART;TZID=America/Phoenix:20260418T140000
DTEND;TZID=America/Phoenix:20260418T170000
DTSTAMP:20260420T012355
CREATED:20260317T201951Z
LAST-MODIFIED:20260317T201951Z
UID:10003467-1776520800-1776531600@www.lassendas.com
SUMMARY:Stock Your Cellar Event
DESCRIPTION:
URL:https://www.lassendas.com/event/stock-your-cellar-event-2/
LOCATION:The Pavillion at Las Sendas\, 755 E Eagle Crest Drive\, Mesa\, Arizona\, 85207\, United States
CATEGORIES:Calendar
END:VEVENT
END:VCALENDAR